{"text_format":"2","workbook":"xlsx","n_sheets":4,"sheets":["1.재무상태표","2.손익계산서","3.현금흐름표","4.자본변동표"],"not_rendered":{"charts":0,"images":0,"macros":0,"external_links":42,"defined_names":1101,"comments":0,"pivot_tables":0},"unopened":[],"bounds":{"document_bytes":16777216,"sheet_cells":100000,"run_cost":"one","rows_first":2000,"rows_last":500,"rows_between":2000,"halvings":0,"cell_chars":16384,"cell_head_chars":4096},"cells_cut":0,"cells_raw":0,"read":"whole","date_system":"1900"}

{"sheet":"1.재무상태표","index":0,"n_rows":40,"n_cols":5,"rows_kept":40,"cut":false,"hidden":false,"merged":[[4,3,4,4],[5,3,5,4],[0,0,0,4],[2,0,2,4],[29,0,29,1],[30,0,30,1],[35,0,35,1],[36,0,36,1],[4,0,5,1],[6,0,6,1],[21,0,21,1],[22,0,22,1]]}
["1.재 무 상 태 표"]
[]
["제  1  기  2018년 12월 31일  현재"]
["국회미래연구원",null,null,null,"(단위:원)"]
["과 목",null,null,{"$f":"LEFT(A3,7)","v":"제  1  기"}]
[null,null,null,"금               액"]
["자산"]
["Ⅰ.","유  동  자  산",null,null,{"$f":"E9","v":1935819579}]
["(1)","당좌자산",null,null,{"$f":"D10","v":1935819579}]
[1,"현 금 및 현금성자산",null,1935819579]
["Ⅱ.","비유동자산",null,null,{"$f":"E12+E15","v":207193746}]
["(1)","유형자산",null,null,{"$f":"SUM(D13:D14)","v":142108991}]
[1,"비품",null,152670920]
[null,"감가상각누계액",null,-10561929]
["(2)","무형자산",null,null,{"$f":"D16+D19","v":65084755}]
[1,"소프트웨어",null,47418088]
[1,"소프트웨어",null,50505460]
[null,"감가상각누계액",null,-3087372]
[2,"지적재산권",null,17666667]
[2,"지적재산권",null,20000000]
[null,"감가상각누계액",null,-2333333]
["자산총계",null,null,null,{"$f":"E11+E8","v":2143013325}]
["부채"]
["Ⅰ.","유 동 부 채",null,null,{"$f":"SUM(D25:D26)","v":64305154}]
[1,"미지급금",null,48460974]
[2,"예수금",null,15844180]
["Ⅱ.","비유동부채",null,null,{"$f":"SUM(D28:D29)","v":904588}]
[1,"퇴직급여충당금",null,68686698]
[2,"퇴직예치금",null,-67782110]
["부채총계",null,null,null,{"$f":"E27+E24","v":65209742}]
["자본"]
["Ⅰ.","자 본 금",null,null,{"$f":"SUM(D33:D33)","v":1000000}]
[1,"기본재산",null,1000000]
["Ⅱ.","이익잉여금",null,null,{"$f":"D35","v":2076803583}]
[null,"미처분이익잉여금",null,2076803583]
["자본총계",null,null,null,{"$f":"E32+E34","v":2077803583}]
["부채와자본총계"]
[]
[]
[{"$nulls":4},{"$f":"E22-E37","v":2143013325}]

{"sheet":"2.손익계산서","index":1,"n_rows":31,"n_cols":9,"rows_kept":31,"cut":false,"hidden":false,"merged":[[4,0,5,1],[4,3,4,4],[5,3,5,4],[0,0,0,4],[2,0,2,4]]}
["2.손 익 계 산 서"]
[]
["제 1 기   2018년 05월 21일부터   2018년 12월 31일까지"]
["국회미래연구원",null,null,null,"(단위:원)"]
["과목",null,null,{"$f":"'1.재무상태표'!D5","v":"제  1  기"}]
[null,null,null,"금               액"]
["Ⅰ.","사업수익",null,null,{"$f":"SUM(D8:D9)","v":3917000000}]
[1,"정부출연수익(사업출연금)",null,1685000000]
[2,"정부출연수익(기관운영출연금)",null,2232000000]
["Ⅱ.","사업원가",null,null,{"$f":"SUM(D11:D11)","v":993736233}]
[1,"정부출연사업원가",null,993736233]
["Ⅲ.","사업총이익",null,null,{"$f":"E7-E10","v":2923263767}]
["Ⅳ.","운영비",null,null,{"$f":"D14+D18+D22+D23","v":850585235}]
[1,"인건비",null,702572838]
["1)","급여",null,600091150]
["2)","퇴직급여",null,60112478]
["3)","법정부담금",null,42369210]
[2,"경상운영비",null,130250640]
["1)","기본공과금",null,1467080]
["2)","자산관리유지비",null,826000]
["3)","운영비",null,127957560]
[3,"감가상각비",null,14855967]
[4,"시설구축운영비",null,2905790]
["Ⅴ.","사업이익",null,null,{"$f":"E12-E13","v":2072678532}]
["Ⅵ.","사업외수익",null,null,{"$f":"SUM(D26:D27)","v":4125051}]
[1,"이자수익",null,3937481]
[2,"기타수익",null,187570]
["Ⅶ.","법인세비용차감전순이익",null,null,{"$f":"E24+E25","v":2076803583}]
["Ⅷ.","법인세비용",null,null,0,null,null,"감사인수정전"]
[null,"당기순이익",null,null,{"$f":"E28-E29","v":2076803583},null,2076803583,2027241087,{"$f":"H30-G30","v":-49562496}]
[null," "]

{"sheet":"3.현금흐름표","index":2,"n_rows":28,"n_cols":5,"rows_kept":28,"cut":false,"hidden":false,"merged":[[0,0,0,4],[2,0,2,4],[4,0,5,1],[4,3,4,4],[5,3,5,4]]}
["3.현금흐름표"]
[]
["제 1 기   2018년 05월 21일부터   2018년 12월 31일까지"]
["국회미래연구원",null,null,null,"(단위:원)"]
["과목",null,null,{"$f":"'1.재무상태표'!D5","v":"제  1  기"}]
[null,null,null,"금               액"]
["Ⅰ.","사업활동으로인한 현금흐름",null,null,{"$f":"D8+D9-D12+D13","v":2225778069}]
["(1)","당기순이익",null,{"$f":"'2.손익계산서'!E30","v":2076803583}]
["(2)","현금의 유출이 없는 비용등의 가산",null,{"$f":"SUM(D10:D11)","v":84669332}]
[1,"퇴직급여",null,{"$f":"'1.재무상태표'!D28","v":68686698}]
[2,"감가상각비",null,{"$f":"-('1.재무상태표'!D14+'1.재무상태표'!D18+'1.재무상태표'!D21)","v":15982634}]
["(3)","현금의 유입이 없는 수익등의 차감",null,0]
["(4)","사업활동으로 인한 자산부채의 변동",null,{"$f":"SUM(D14:D15)","v":64305154}]
[1,"미지급금의 증가(감소)",null,{"$f":"'1.재무상태표'!D25","v":48460974}]
[2,"예수금의 증가(감소)",null,{"$f":"'1.재무상태표'!D26","v":15844180}]
["Ⅱ.","투자활동으로인한 현금흐름",null,null,{"$f":"D17+D18","v":-223176380}]
["(1)","투자활동으로 인한 현금유입액",null,0]
["(2)","투자활동으로 인한 현금유출액",null,{"$f":"SUM(D19:D21)","v":-223176380}]
[1,"비품의 취득",null,{"$f":"-'1.재무상태표'!D13","v":-152670920}]
[2,"소프트웨어의 취득",null,{"$f":"-'1.재무상태표'!D17","v":-50505460}]
[3,"지적재산권의 취득",null,{"$f":"-'1.재무상태표'!D20","v":-20000000}]
["Ⅲ.","재무활동으로인한 현금흐름",null,null,{"$f":"D23+D25","v":1000000}]
["(1)","재무활동으로 인한 현금유입액",null,{"$f":"SUM(D24)","v":1000000}]
[1,"기본재산의 증가",null,1000000]
["(2)","재무활동으로 인한 현금유출액",null,0]
["Ⅳ.","현금의 증가",null,null,{"$f":"E7+E16+E22","v":2003601689}]
["Ⅴ.","기초의 현금",null,null,0]
["Ⅵ.","기말의 현금",null,null,{"$f":"E26","v":2003601689}]

{"sheet":"4.자본변동표","index":3,"n_rows":9,"n_cols":6,"rows_kept":9,"cut":false,"hidden":false,"merged":[[0,0,0,5],[2,0,2,5],[4,0,4,1]]}
["4.자본변동표"]
[]
["제 1 기   2018년 05월 21일부터   2018년 12월 31일까지"]
["국회미래연구원",{"$nulls":4},"(단위:원)"]
["과목",null,null,"자본금","이익잉여금","총계"]
["Ⅰ.","2018년5월21일(당기초)"]
[null,"기본재산",null,1000000,0,{"$f":"SUM(D7:E7)","v":1000000}]
[null,"당기순이익",null,0,{"$f":"#REF!","v":{"$error":"#REF!"}},{"$f":"SUM(D8:E8)","v":{"$error":"#REF!"}}]
["Ⅱ.","2018년12월31일(당기말)",null,{"$f":"SUM(D7:D8)","v":1000000},{"$f":"SUM(E7:E8)","v":{"$error":"#REF!"}},{"$f":"SUM(F7:F8)","v":{"$error":"#REF!"}}]